BEGIN:VCALENDAR
VERSION:2.0
PRODID:-//EMEN - ECPv6.15.13//NONSGML v1.0//EN
CALSCALE:GREGORIAN
METHOD:PUBLISH
X-WR-CALNAME:EMEN
X-ORIGINAL-URL:https://emen.org.uk
X-WR-CALDESC:Events for EMEN
REFRESH-INTERVAL;VALUE=DURATION:PT1H
X-Robots-Tag:noindex
X-PUBLISHED-TTL:PT1H
BEGIN:VTIMEZONE
TZID:UTC
BEGIN:STANDARD
TZOFFSETFROM:+0000
TZOFFSETTO:+0000
TZNAME:UTC
DTSTART:20240101T000000
END:STANDARD
END:VTIMEZONE
BEGIN:VTIMEZONE
TZID:Europe/London
BEGIN:DAYLIGHT
TZOFFSETFROM:+0000
TZOFFSETTO:+0100
TZNAME:BST
DTSTART:20250330T010000
END:DAYLIGHT
BEGIN:STANDARD
TZOFFSETFROM:+0100
TZOFFSETTO:+0000
TZNAME:GMT
DTSTART:20251026T010000
END:STANDARD
BEGIN:DAYLIGHT
TZOFFSETFROM:+0000
TZOFFSETTO:+0100
TZNAME:BST
DTSTART:20260329T010000
END:DAYLIGHT
BEGIN:STANDARD
TZOFFSETFROM:+0100
TZOFFSETTO:+0000
TZNAME:GMT
DTSTART:20261025T010000
END:STANDARD
BEGIN:DAYLIGHT
TZOFFSETFROM:+0000
TZOFFSETTO:+0100
TZNAME:BST
DTSTART:20270328T010000
END:DAYLIGHT
BEGIN:STANDARD
TZOFFSETFROM:+0100
TZOFFSETTO:+0000
TZNAME:GMT
DTSTART:20271031T010000
END:STANDARD
END:VTIMEZONE
BEGIN:VEVENT
DTSTART;TZID=UTC:20251204T100000
DTEND;TZID=UTC:20251204T130000
DTSTAMP:20260421T040555
CREATED:20251124T155619Z
LAST-MODIFIED:20251124T155619Z
UID:4985-1764842400-1764853200@emen.org.uk
SUMMARY:Get started with Community Energy (Edinburgh)
DESCRIPTION:Learn how to plan\, fund\, and deliver renewable energy projects to benefit your community\n\n\n\nAre you part of a community group interested in renewable energy but stuck\, or not sure where to start? \nJoin this in-person workshop to explore how renewable energy projects can take off – making your community spaces warmer\, with lower bills\, and more sustainable. \nThis workshop is for community leaders and active members either curious or already exploring funding opportunities to install renewable energy systems – reducing bills and delivering long-term benefits for your community. \n💡 What To Expect \n\nAn introduction to community energy and why it matters\n\n\nExamples of successful projects\n\n\nA step-by-step guide to planning\, funding\, and delivering your community group’s project\n\n\nIntroduction to advice and guidance available to help you progress\n\n\nAn opportunity to talk through your ideas\, opportunities and challenges\nLunch\n\nYou’ll leave with insights into the knowledge and tools you need to take the next steps toward making your community building more energy-efficient and financially sustainable\, and connections for developing your ideas. \n🏠 Who Should Attend \n\nRepresentatives from community groups that own or long-term lease the buildings they use\n\n\nCommunity leaders or active group members looking to reduce energy bills and improve comfort in a community space\n\n\nThose interested or ready to take practical action to serve their community and strengthen their building’s sustainability for now and in the future\n\nNo prior knowledge is required — just bring your interest in learning about the possibilities\, and it’s a bonus if you have any ideas already for improving your community’s energy future. \n🍽 Lunch will be provided \nHosted by: \nCommunity Energy Scotland and CEMVO Scotland \nFunders \nThis event is delivered by Community Energy Scotland in partnership with CEMVO Scotland and thanks to project funding from the Scottish Government’s Community and Renewable Energy Scheme (CARES). CARES supports communities to engage with\, participate in and benefit from the transition to net zero emissions. \nCommunity Energy Scotland is a member-led\, independent organisation focused on increasing community resilience and enabling our members to play a significant role in an equitable energy transition. CEMVO Scotland’s aim is to build the capacity and sustainability of the ethnic minority voluntary sector and its communities. \n\n\nRegister on eventbrite
URL:https://emen.org.uk/event/get-started-with-community-energy-edinburgh/
END:VEVENT
BEGIN:VEVENT
DTSTART;TZID=UTC:20251216T190000
DTEND;TZID=UTC:20251216T200000
DTSTAMP:20260421T040555
CREATED:20251105T144918Z
LAST-MODIFIED:20251105T144918Z
UID:4934-1765911600-1765915200@emen.org.uk
SUMMARY:From Idea to Action\, Get started with your community organisation
DESCRIPTION:Whether you have an idea or just simply curious\, during this webinar you can get practical advice on starting a community organisation.\n\n\n\nWould you like to organise a group but don’t know how to start? Or maybe you’re just ineterested in learning about the technicalities of starting a community group? Bring all your questions to Cemvo Scotland’s webinar and learn from about \n\nUnderstanding the Charity Test\nWriting constitution\nChoosing a structure\nBuilding a board\n\nThis webinar will be delivered by Nadeem Hanif\, Capacity Building Consultant of Cemvo Scotland. \n\nRegister here: From Idea to Action\, Get started with your community organisation Tickets\, Tue\, Dec 16\, 2025 at 7:00 PM | Eventbrite
URL:https://emen.org.uk/event/from-idea-to-action-get-started-with-your-community-organisation/
ATTACH;FMTTYPE=:
END:VEVENT
BEGIN:VEVENT
DTSTART;TZID=Europe/London:20260324T183000
DTEND;TZID=Europe/London:20260324T193000
DTSTAMP:20260421T040555
CREATED:20260303T094555Z
LAST-MODIFIED:20260303T094555Z
UID:5296-1774377000-1774380600@emen.org.uk
SUMMARY:Harness Social Media for Climate Action
DESCRIPTION:Learn about using social media for environmental campaigns! \n\n\n\n\nDuring this webinar we will hear from 3 inspiring climate activists who use the powers of communication and social media to work towards a liveable planet for all. \nThe speakers are the following: \nTamara\, an award winning young climate activist\, Climate Clock Ambassador and peer mentor \nTamara will talk about when and how she started her activism and how she gained recognition. She will also tell about the impact and challenges of using social media to promote her climate activism. Finally\, this young and inspiring person will also share her hopes for the future. Find Tamara on Instagram \nLaura Anderson\, Scottish Environmental Scientist\, Campaigner and Influencer \nLaura will introduce us to her work and her journey into social media and how she turned her online work into action on the ground. She will share how examples of social media being effective in her work and what challenges she faces when using this communication tool. We will also learn about the importance of privacy and boundaries when working online. Find Laura on Instagram and see her website: Home – Less Waste Laura \nAnne\, Broadcaster\, Human Rights and Climate Change activist \nAnne will tell us about her work\, and being Tamara’s mother\, she will also share her insight into supporting a young climate activist with social media presence.
URL:https://emen.org.uk/event/harness-social-media-for-climate-action/
LOCATION:Online
END:VEVENT
END:VCALENDAR