BEGIN:VCALENDAR
VERSION:2.0
PRODID:-//EMEN - ECPv6.15.13//NONSGML v1.0//EN
CALSCALE:GREGORIAN
METHOD:PUBLISH
X-WR-CALNAME:EMEN
X-ORIGINAL-URL:https://emen.org.uk
X-WR-CALDESC:Events for EMEN
REFRESH-INTERVAL;VALUE=DURATION:PT1H
X-Robots-Tag:noindex
X-PUBLISHED-TTL:PT1H
BEGIN:VTIMEZONE
TZID:UTC
BEGIN:STANDARD
TZOFFSETFROM:+0000
TZOFFSETTO:+0000
TZNAME:UTC
DTSTART:20210101T000000
END:STANDARD
END:VTIMEZONE
BEGIN:VEVENT
DTSTART;TZID=UTC:20230509T130000
DTEND;TZID=UTC:20230509T150000
DTSTAMP:20260421T021724
CREATED:20230411T144647Z
LAST-MODIFIED:20230411T144647Z
UID:3804-1683637200-1683644400@emen.org.uk
SUMMARY:Cycling Scotland - Meet the Funder Event
DESCRIPTION:EMEN is collaborating with Cycling Scotland and Paths for All to provide a learning opportunity to our EM members about the various funds available with added support in availing these funds. Join us for a delicious lunch and informal chat to find out more \nThe Cycling Friendly Community programme supports organisations across Scotland to take a leading role in increasing the number of people who cycle thus creating sustainable\, empowered\, and healthier communities. Within the programme they have a funding available of up to £20\,000 for bikes or facilities that make cycling more accessible. Their fund makes it possible for more people\, regardless of background or ability\, to enjoy the benefits of being on a bike and enable community groups in Scotland to increase opportunities for people to cycle. \nThe event with EMEN will focus on bridging gaps in understanding the various issues that Cycling Scotland and other funders are seeking to address.
URL:https://emen.org.uk/event/cycling-scotland-meet-the-funder-event/
END:VEVENT
BEGIN:VEVENT
DTSTART;TZID=UTC:20221206T153000
DTEND;TZID=UTC:20221206T170000
DTSTAMP:20260421T021724
CREATED:20221118T161135Z
LAST-MODIFIED:20221118T161135Z
UID:3699-1670340600-1670346000@emen.org.uk
SUMMARY:EMEN End-of-Year Catch-Up
DESCRIPTION:The Ethnic Minority Environmental Network (EMEN) exists to amplify the voices of ethnic minority groups and individuals in the fight against climate change. \nWe have had a really successful 2022\, and we would love you to join us for an informal\, end-of-year catch up. No long presentations – just a chance to enjoy a cup of tea and chat about the work we have done to date\, and our plans for 2023. \nAfter the formal event ends we will have space reserved in the CCA Saramago bar for anyone who wants to toast the work that EMEN has been delivering. \nAs always\, this event is free to attend – we hope you can join us!
URL:https://emen.org.uk/event/emen-end-of-year-catch-up/
END:VEVENT
BEGIN:VEVENT
DTSTART;TZID=UTC:20221125T120000
DTEND;TZID=UTC:20221125T150000
DTSTAMP:20260421T021724
CREATED:20221104T122138Z
LAST-MODIFIED:20221104T122138Z
UID:3693-1669377600-1669388400@emen.org.uk
SUMMARY:Greener Buildings - How We Can Help
DESCRIPTION:Loosely timed to follow on from Interfaith Week\, this event is a fantastic opportunity for members of community groups that run a community building such as a community hall or faith building. Chris Morris from Local Energy Scotland will talk about the Scottish Government’s Community and Renewable Energy Scheme (CARES) and how it can help your community. CARES provides funding and support to make your building greener by installing renewable technologies such as heat pumps and solar panels. \nAnother great reason to attend will be to reflect on progress made in Scotland a year after COP26 and the road ahead via Egypt and beyond. \nEMEN events are always a wonderful opportunity to meet interest people\, share some delicious food\, and make connections between like-minded organisations and individuals. \nBook your free tickets now!
URL:https://emen.org.uk/event/greener-buildings-how-we-can-help/
END:VEVENT
BEGIN:VEVENT
DTSTART;TZID=UTC:20221019T130000
DTEND;TZID=UTC:20221019T150000
DTSTAMP:20260421T021724
CREATED:20221006T130312Z
LAST-MODIFIED:20221006T130312Z
UID:3642-1666184400-1666191600@emen.org.uk
SUMMARY:Know Your Environmental Rights - EMEN & ERCS
DESCRIPTION:Book your free ticket now! \nThis free event is a collaboration between EMEN\, the Ethnic Minority Environmental Network\, and ERCS\, the Environmental Rights Centre for Scotland.  \nEnvironmental justice is about ensuring a fair distribution of environmental benefits and burdens. It acknowledges that marginalised groups and communities are more exposed to environmental burdens (such as pollution\, proximity to landfill and the impacts of climate change); and have less access to environmental benefits (such as access to good quality green space). \n It also recognises that these groups are least responsible for contributing to environmental damage on local and global scales. Yet\, they have fewer resources and opportunities to challenge harmful practices and protect the environment now\, and for future generations. \nThis informal discussion\, including a delicious free lunch\, will seek to prepare us for the challenges we face in the years ahead in dealing with environmental justice.  \nKnow your rights – and learn how you can help to push for a just environmental transition. \nBook your free ticket now!
URL:https://emen.org.uk/event/know-your-environmental-rights-emen-ercs/
END:VEVENT
BEGIN:VEVENT
DTSTART;TZID=UTC:20221012T130000
DTEND;TZID=UTC:20221012T150000
DTSTAMP:20260421T021724
CREATED:20220929T102437Z
LAST-MODIFIED:20220929T102437Z
UID:3633-1665579600-1665586800@emen.org.uk
SUMMARY:WWF Engagement Event
DESCRIPTION:EMEN have been proud to partner with WWF over the past year to deliver a series of engagement sessions supporting ethnic minority projects in Scotland working in the environmental sector. \nAs this phase of our work draws to a close\, we would like to invite you to hear about the projects we have been collaborating on\, and some of the successes we have achieved. \nJoin us at 1pm in the Screening Room of CitizenM hotel on Renfrew Street for a delicious lunch\, followed by informal discussions and presentations. \nPlaces are limited so please book your FREE ticket now.
URL:https://emen.org.uk/event/wwf-engagement-event/
END:VEVENT
BEGIN:VEVENT
DTSTART;TZID=UTC:20220930T110000
DTEND;TZID=UTC:20220930T150000
DTSTAMP:20260421T021725
CREATED:20220922T141902Z
LAST-MODIFIED:20220922T141902Z
UID:3622-1664535600-1664550000@emen.org.uk
SUMMARY:Innovators Assemble
DESCRIPTION:Would you be interested in attending this event on Friday 30th September at Glasgow University? To be held between 11am and 3pm with complimentary lunch. If so please email Aekus or Andrew for more information. \nInnovators Assemble Workshop 1: Ideation \nDate: September 30th 2022 (Friday) | Time: 11:00 – 15:00 (w/ lunch) \nIntroduction of the project and people (10 minutes) 11:00 – 11:10 \n\nCommunity and industry engagement and outreach for existing research\nMark Wong –introduction\nTim Peacock –introduction and introduce UofG Games and Gaming lab\nEducation Evolved – Matthew and Sumeet (Brief background about EE)\n\nScope of the project (Research based Microgame development) (20-30 minutes) 11:15 – 11:45 \n\nOutline of main theme: Scotland 2045 from an Minortised Ethnic perspective—what are the concerns\, challenges\, and hopes for an equitable sustainable future? (MW)\nEMEN—brief introduction to EMEN\, vision/recent work for an equitable transition to sustainable future and climate justice (AK)\nKey research aspects to be included\, i.e. lived experience as expertise\, co-creation of game centering Minoritised Ethnic people’s perspectives (MW)\nShow examples/demos (TP\, ML/SG)\nGoals for the day\, and how we achieve them (coming up with something that can be used to create a story board\, illustrations/graphic recording from artist\, and that can begin to inform the wireframe of the game) (ML)\nAccessibility to the content is key\n\n 
URL:https://emen.org.uk/event/innovators-assemble/
END:VEVENT
BEGIN:VEVENT
DTSTART;TZID=UTC:20220915T120000
DTEND;TZID=UTC:20220915T160000
DTSTAMP:20260421T021725
CREATED:20220811T092652Z
LAST-MODIFIED:20220811T092652Z
UID:3455-1663243200-1663257600@emen.org.uk
SUMMARY:Nature Walk in Pollok Park
DESCRIPTION:EMEN is joining the Climate Fringe with a new spin on a nature walk! \n\n\nAbout this event\n\n\n\nQuick Overview: \nJoin us from noon – lunch until 1pm – walk for 1 & 1/2 hours – networking teas and coffees. \nThis event is FREE to join for stakeholders of the Ethnic Minority Environmental Network \nAbout the Nature Walk \nWe want to take you on an exciting walk through one of the historical and green treasures of Scotland – Pollok Country Park. We will discuss the history of common land in Scotland\, plant-hunting expeditions that changed our flora and fauna\, and much more to deepen our understanding of Scotland’s relationship with its nature. \nGood to Know \nThis is an outdoor\, all-weather walk. Please bring sturdy walking shoes and waterproof clothes in the event of rain. We will be filming the event to allow anyone unable to attend in person to access the content.
URL:https://emen.org.uk/event/nature-walk-in-pollok-park/
END:VEVENT
BEGIN:VEVENT
DTSTART;TZID=UTC:20220809T130000
DTEND;TZID=UTC:20220809T160000
DTSTAMP:20260421T021725
CREATED:20220811T092411Z
LAST-MODIFIED:20220811T092411Z
UID:3450-1660050000-1660060800@emen.org.uk
SUMMARY:Energy Strategy and Just Transition Plan Consultation Event
DESCRIPTION:With the Scottish Government’s support and collaboration\, EMEN organised this engagement session on the upcoming Energy Strategy and Just Transition Plan for Scotland. \nJust transitions are becoming more visible around the world on a business\, regional\, city and national level yet it’s still rare to hear of Just Transitions in terms of human rights. Climate mitigation efforts will have serious impacts on our basic human rights and inequalities across sectors. In order to bring this to light\, this session demonstrated how any conceptualisation of tackling the dual crises of climate change and extreme inequality needs to be considered a human right to give workers the ability to hold governments and employers to account over climate inaction and impacts on their livelihoods. \nWe had a day full of energy strategy discussions in terms of human rights and equalities which has reminded us of the depth of work that still needs to be done to ensure climate mitigation efforts are fairer than we had imagined before.
URL:https://emen.org.uk/event/energy-strategy-and-just-transition-plan-consultation-event/
END:VEVENT
END:VCALENDAR