BEGIN:VCALENDAR
VERSION:2.0
PRODID:-//EMEN - ECPv6.15.13//NONSGML v1.0//EN
CALSCALE:GREGORIAN
METHOD:PUBLISH
X-WR-CALNAME:EMEN
X-ORIGINAL-URL:https://emen.org.uk
X-WR-CALDESC:Events for EMEN
REFRESH-INTERVAL;VALUE=DURATION:PT1H
X-Robots-Tag:noindex
X-PUBLISHED-TTL:PT1H
BEGIN:VTIMEZONE
TZID:UTC
BEGIN:STANDARD
TZOFFSETFROM:+0000
TZOFFSETTO:+0000
TZNAME:UTC
DTSTART:20240101T000000
END:STANDARD
END:VTIMEZONE
BEGIN:VTIMEZONE
TZID:Europe/London
BEGIN:DAYLIGHT
TZOFFSETFROM:+0000
TZOFFSETTO:+0100
TZNAME:BST
DTSTART:20240331T010000
END:DAYLIGHT
BEGIN:STANDARD
TZOFFSETFROM:+0100
TZOFFSETTO:+0000
TZNAME:GMT
DTSTART:20241027T010000
END:STANDARD
BEGIN:DAYLIGHT
TZOFFSETFROM:+0000
TZOFFSETTO:+0100
TZNAME:BST
DTSTART:20250330T010000
END:DAYLIGHT
BEGIN:STANDARD
TZOFFSETFROM:+0100
TZOFFSETTO:+0000
TZNAME:GMT
DTSTART:20251026T010000
END:STANDARD
BEGIN:DAYLIGHT
TZOFFSETFROM:+0000
TZOFFSETTO:+0100
TZNAME:BST
DTSTART:20260329T010000
END:DAYLIGHT
BEGIN:STANDARD
TZOFFSETFROM:+0100
TZOFFSETTO:+0000
TZNAME:GMT
DTSTART:20261025T010000
END:STANDARD
END:VTIMEZONE
BEGIN:VEVENT
DTSTART;TZID=UTC:20251112T190000
DTEND;TZID=UTC:20251112T200000
DTSTAMP:20260420T234944
CREATED:20251008T155925Z
LAST-MODIFIED:20251008T155925Z
UID:4781-1762974000-1762977600@emen.org.uk
SUMMARY:Introduction to environmental social enterprises webinar
DESCRIPTION:Please\, register on eventbrite: Introduction to environmental social enterprises Tickets\, Wed\, Nov 12\, 2025 at 7:00 PM | Eventbrite \nJoin Cemvo Scotland for an inspiring and informative webinar exploring the transformative power of environmental social enterprises. \nLearn how these innovative organisations blend profit with purpose and work towards climate justice. \nWhether you already run a social enterprise\, have an idea\, looking for inspiration\, or just simply interested\, this session will provide you with insights into the how social enterprises work\, what is needed to start and run them\, and examples of social enterprises that benefit both people and the planet. \nThis webinar will be delivered by Yasmin Ali\, Social Enterprise Officer of Cemvo Scotland. \nThis webinar will take place on Zoom.
URL:https://emen.org.uk/event/introduction-to-environmental-social-enterprises-webinar/
ATTACH;FMTTYPE=:
END:VEVENT
BEGIN:VEVENT
DTSTART;TZID=Europe/London:20251122T080000
DTEND;TZID=Europe/London:20251122T170000
DTSTAMP:20260420T234944
CREATED:20251114T093151Z
LAST-MODIFIED:20251119T145348Z
UID:585-1763798400-1763830800@emen.org.uk
SUMMARY:Scotland Climate March
DESCRIPTION:gter7t87y90ui[opl’km;nljbkhvjgchf vbnbemn\,m.\,dFWRAGEBHSZNXDMCJF\,KVG.LJ\,B
URL:https://emen.org.uk/event/scotland-climate-march/
LOCATION:CEMVO Office\, Lancefield Street\, Glasgow\, United Kingdom
ATTACH;FMTTYPE=image/jpeg:https://emen.org.uk/wp-content/uploads/2025/11/New-Newsletter.jpg
END:VEVENT
BEGIN:VEVENT
DTSTART;TZID=UTC:20251122T130000
DTEND;TZID=UTC:20251122T160000
DTSTAMP:20260420T234944
CREATED:20251105T142934Z
LAST-MODIFIED:20251105T142934Z
UID:4919-1763816400-1763827200@emen.org.uk
SUMMARY:Cancelled! - Hopeful Futures - Using the power of emotion for climate action
DESCRIPTION:This event has been cancelled! \n  \nJoin Verture and Cemvo Scotland for discussions and workshops \n\n\n\nFind out about local climate impacts and actions you could take \nHear and share your stories about living with climate change \nGet inspired with a creative workshop run by Verture and environmental artist Martha Orbach \nLUNCH INCLUDED \nBRING YOUR CHILDREN! \n\nChildren’s activities will be provided by Good in the wood\nAvailable for children age 5 and over\nThese will be outdoor activities\, so please dress the children appropriately with waterproof and warm clothes\nPlease book separate ticket for each child you bring along\nYou will be asked to complete a registration form for each child\n\nRegister here: Hopeful Futures – Using the power of emotion for climate action Tickets\, Sat\, Nov 22\, 2025 at 1:00 PM | Eventbrite
URL:https://emen.org.uk/event/hopeful-futures-using-the-power-of-emotion-for-climate-action/
END:VEVENT
BEGIN:VEVENT
DTSTART;TZID=UTC:20251124T180000
DTEND;TZID=UTC:20251124T200000
DTSTAMP:20260420T234944
CREATED:20251105T144326Z
LAST-MODIFIED:20251105T144326Z
UID:4929-1764007200-1764014400@emen.org.uk
SUMMARY:‘Ocean’ with David Attenborough Community Film Screening
DESCRIPTION:Join Cemvo Scotland and the Marine Conservation Society for a FREE documentary screening and Q&A with MCS and Scottish Wildlife Trust!\n\n\n\nFree documentary screening of ‘Ocean’ with David Attenbotough \nLearn about the challenges oceans and communities who depend on them face in the UK and internationally\, from destructive fishing to mass coral reef bleaching. \nHear inspirational stories from around the world on how oceans can recover. \nAfter the documentary\, stay for a discussion with staff members of Marine Conservation Society and Scottish Wildlife Trust. \nHot drinks and biscuits will be provided during the event. \nPLEASE\, ARRIVE AT 6PM SO WE CAN START ON TIME \nRegister here: ‘Ocean’ with David Attenborough Community Film Screening Tickets\, Mon\, Nov 24\, 2025 at 6:00 PM | Eventbrite
URL:https://emen.org.uk/event/ocean-with-david-attenborough-community-film-screening/
END:VEVENT
END:VCALENDAR